BEGIN:VCALENDAR
VERSION:2.0
PRODID:-//Schachfreunde Essen-Werden 1924/80 - ECPv6.15.20//NONSGML v1.0//EN
CALSCALE:GREGORIAN
METHOD:PUBLISH
X-ORIGINAL-URL:https://sf-werden.de
X-WR-CALDESC:Veranstaltungen für Schachfreunde Essen-Werden 1924/80
REFRESH-INTERVAL;VALUE=DURATION:PT1H
X-Robots-Tag:noindex
X-PUBLISHED-TTL:PT1H
BEGIN:VTIMEZONE
TZID:Europe/Berlin
BEGIN:DAYLIGHT
TZOFFSETFROM:+0100
TZOFFSETTO:+0200
TZNAME:CEST
DTSTART:20250330T010000
END:DAYLIGHT
BEGIN:STANDARD
TZOFFSETFROM:+0200
TZOFFSETTO:+0100
TZNAME:CET
DTSTART:20251026T010000
END:STANDARD
BEGIN:DAYLIGHT
TZOFFSETFROM:+0100
TZOFFSETTO:+0200
TZNAME:CEST
DTSTART:20260329T010000
END:DAYLIGHT
BEGIN:STANDARD
TZOFFSETFROM:+0200
TZOFFSETTO:+0100
TZNAME:CET
DTSTART:20261025T010000
END:STANDARD
BEGIN:DAYLIGHT
TZOFFSETFROM:+0100
TZOFFSETTO:+0200
TZNAME:CEST
DTSTART:20270328T010000
END:DAYLIGHT
BEGIN:STANDARD
TZOFFSETFROM:+0200
TZOFFSETTO:+0100
TZNAME:CET
DTSTART:20271031T010000
END:STANDARD
END:VTIMEZONE
BEGIN:VEVENT
DTSTART;TZID=Europe/Berlin:20260502T140000
DTEND;TZID=Europe/Berlin:20260502T180000
DTSTAMP:20260425T140923
CREATED:20250819T203646Z
LAST-MODIFIED:20250819T203646Z
UID:4576-1777730400-1777744800@sf-werden.de
SUMMARY:Jugendmannschaftskampf (Werden 4 Runde 8)
DESCRIPTION:
URL:https://sf-werden.de/event/jugendmannschaftskampf-werden-4-runde-8/
LOCATION:JUBB Werden\, Wesselswerth 10\, Essen-Werden\, Nordrhein-Westfalen\, 45239\, Germany
CATEGORIES:Jugend
END:VEVENT
BEGIN:VEVENT
DTSTART;TZID=Europe/Berlin:20260502T140000
DTEND;TZID=Europe/Berlin:20260502T180000
DTSTAMP:20260425T140923
CREATED:20250819T203733Z
LAST-MODIFIED:20250819T203733Z
UID:4578-1777730400-1777744800@sf-werden.de
SUMMARY:Jugendmannschaftskampf (Werden 5 Runde 8)
DESCRIPTION:
URL:https://sf-werden.de/event/jugendmannschaftskampf-werden-5-runde-8/
LOCATION:JUBB Werden\, Wesselswerth 10\, Essen-Werden\, Nordrhein-Westfalen\, 45239\, Germany
CATEGORIES:Jugend
END:VEVENT
END:VCALENDAR